BEGIN:VCALENDAR
VERSION:2.0
PRODID:-//Falkland Community Hall - Fife - ECPv5.1.2.1//NONSGML v1.0//EN
CALSCALE:GREGORIAN
METHOD:PUBLISH
X-WR-CALNAME:Falkland Community Hall - Fife
X-ORIGINAL-URL:https://www.falklandcommunityhall.org
X-WR-CALDESC:Events for Falkland Community Hall - Fife
BEGIN:VTIMEZONE
TZID:UTC
BEGIN:STANDARD
TZOFFSETFROM:+0000
TZOFFSETTO:+0000
TZNAME:UTC
DTSTART:20220101T000000
END:STANDARD
END:VTIMEZONE
BEGIN:VEVENT
DTSTART;TZID=UTC:20220417T140000
DTEND;TZID=UTC:20220417T160000
DTSTAMP:20260424T052847
CREATED:20220414T121858Z
LAST-MODIFIED:20220414T121858Z
UID:3205-1650204000-1650211200@www.falklandcommunityhall.org
SUMMARY:Family Ceilidh and Games Afternoon
DESCRIPTION:Come along for a fun afternoon out with your family and support your local community hall.  \nRaffle and refreshments available. \nTickets £5 per adult\, £1 per child. \nOn sale at Falkland Library every Saturday\, 10am to 12noon. Also available on the door. \n
URL:https://www.falklandcommunityhall.org/event/family-ceilidh-and-games-afternoon/
LOCATION:Falkland Community Hall\, Back Wynd\, Falkland\, Fife\, KY15 7BX\, United Kingdom
CATEGORIES:Dance
ATTACH;FMTTYPE=image/jpeg:https://www.falklandcommunityhall.org/wp-content/uploads/2022/04/ceilidhs.jpeg
END:VEVENT
BEGIN:VEVENT
DTSTART;TZID=UTC:20220422T190000
DTEND;TZID=UTC:20220422T220000
DTSTAMP:20260424T052847
CREATED:20220414T115429Z
LAST-MODIFIED:20220414T115540Z
UID:3187-1650654000-1650664800@www.falklandcommunityhall.org
SUMMARY:Ladies Fashion Show and Pop-up Shop!
DESCRIPTION:Come along for a fun night out and support your local community hall.  \nShop for your favourite High Street Brands at 50% off or more! \nTickets cost £10 and include a welcome glass of wine or soft drink.  \nAll proceeds raised go in support of the community hall. \nTickets are available for sale either at Falkland Library (Wednesdays\, 2pm to 6pm and Saturdays 10am to 12 noon)\, or at the Town House Deli in the village. \n  \nDoors open at 7pm and show starts at 7.30pm \n  \n
URL:https://www.falklandcommunityhall.org/event/ladies-fashion-show-and-pop-up-shop/
LOCATION:Falkland Community Hall\, Back Wynd\, Falkland\, Fife\, KY15 7BX\, United Kingdom
ATTACH;FMTTYPE=image/jpeg:https://www.falklandcommunityhall.org/wp-content/uploads/2022/04/PXL_20220414_115004552_2-scaled.jpg
END:VEVENT
BEGIN:VEVENT
DTSTART;TZID=UTC:20220423T100000
DTEND;TZID=UTC:20220423T130000
DTSTAMP:20260424T052847
CREATED:20220414T120959Z
LAST-MODIFIED:20220414T120959Z
UID:3200-1650708000-1650718800@www.falklandcommunityhall.org
SUMMARY:Drawing from Nature Workshop with Alison Philp
DESCRIPTION:\n\n\nSpending time with\, and tuning into\, nature whilst also enhancing drawing skills.\n\n\n\n\n\nIn this workshop we will primarily be using observational drawing as a tool of attentiveness to our natural surroundings. We will look at natural forms and processes and learn drawing techniques to creatively engage with them. \n\n\nThe emphasis will be on spending time with\, and tuning into\, nature whilst also enhancing drawing skills. We will also be drawing inspiration from some historical and archived resources. \nWe will explore outside to find suitable subjects to draw and/or to collect matter\, then try out some drawing exercises. We will finish by creating a sustained drawing piece using the techniques we’ve learned. \nGraphite pencils will be provided\, and participants are free to bring along other art materials as well. \nSuitable for adults and teens. Tickets are by donation via Eventbrite.  \nThe Village Creative workshops are funded by the University of St Andrews Community Fund’. \n\n\n\n\n
URL:https://www.falklandcommunityhall.org/event/drawing-from-nature-workshop-with-alison-philp/
LOCATION:Falkland Community Hall\, Back Wynd\, Falkland\, Fife\, KY15 7BX\, United Kingdom
CATEGORIES:Art classes
ATTACH;FMTTYPE=image/jpeg:https://www.falklandcommunityhall.org/wp-content/uploads/2022/04/17cd3a65-7f0b-4f1a-b67d-2719682773cd.jpg
END:VEVENT
END:VCALENDAR