BEGIN:VCALENDAR
VERSION:2.0
PRODID:-//Falkland Community Hall - Fife - ECPv5.1.2.1//NONSGML v1.0//EN
CALSCALE:GREGORIAN
METHOD:PUBLISH
X-WR-CALNAME:Falkland Community Hall - Fife
X-ORIGINAL-URL:https://www.falklandcommunityhall.org
X-WR-CALDESC:Events for Falkland Community Hall - Fife
BEGIN:VTIMEZONE
TZID:UTC
BEGIN:STANDARD
TZOFFSETFROM:+0000
TZOFFSETTO:+0000
TZNAME:UTC
DTSTART:20160101T000000
END:STANDARD
END:VTIMEZONE
BEGIN:VEVENT
DTSTART;VALUE=DATE:20160505
DTEND;VALUE=DATE:20160506
DTSTAMP:20260419T170019
CREATED:20160105T154929Z
LAST-MODIFIED:20160105T154929Z
UID:190-1462406400-1462492799@www.falklandcommunityhall.org
SUMMARY:Scottish Parliamentary Elections
DESCRIPTION:Please note: the Hall will be used all day as a polling station and will be unavailable for rent.\n
URL:https://www.falklandcommunityhall.org/event/scottish-parliamentary-elections/
LOCATION:Falkland Community Hall\, Back Wynd\, Falkland\, Fife\, KY15 7BX\, United Kingdom
END:VEVENT
END:VCALENDAR