BEGIN:VCALENDAR
VERSION:2.0
PRODID:-//Falkland Community Hall - Fife - ECPv5.1.2.1//NONSGML v1.0//EN
CALSCALE:GREGORIAN
METHOD:PUBLISH
X-WR-CALNAME:Falkland Community Hall - Fife
X-ORIGINAL-URL:https://www.falklandcommunityhall.org
X-WR-CALDESC:Events for Falkland Community Hall - Fife
BEGIN:VTIMEZONE
TZID:UTC
BEGIN:STANDARD
TZOFFSETFROM:+0000
TZOFFSETTO:+0000
TZNAME:UTC
DTSTART:20150101T000000
END:STANDARD
END:VTIMEZONE
BEGIN:VEVENT
DTSTART;TZID=UTC:20151221T143000
DTEND;TZID=UTC:20151221T213000
DTSTAMP:20260419T214129
CREATED:20151214T204743Z
LAST-MODIFIED:20151214T204743Z
UID:163-1450708200-1450733400@www.falklandcommunityhall.org
SUMMARY:Scottish National Blood Transfusion Service
DESCRIPTION:Come along and give blood\n
URL:https://www.falklandcommunityhall.org/event/scottish-national-blood-transfusion-service/
END:VEVENT
END:VCALENDAR