BEGIN:VCALENDAR
VERSION:2.0
PRODID:-//Falkland Community Hall - Fife - ECPv5.1.2.1//NONSGML v1.0//EN
CALSCALE:GREGORIAN
METHOD:PUBLISH
X-WR-CALNAME:Falkland Community Hall - Fife
X-ORIGINAL-URL:https://www.falklandcommunityhall.org
X-WR-CALDESC:Events for Falkland Community Hall - Fife
BEGIN:VTIMEZONE
TZID:UTC
BEGIN:STANDARD
TZOFFSETFROM:+0000
TZOFFSETTO:+0000
TZNAME:UTC
DTSTART:20210101T000000
END:STANDARD
END:VTIMEZONE
BEGIN:VEVENT
DTSTART;TZID=UTC:20211015T193000
DTEND;TZID=UTC:20211015T213000
DTSTAMP:20260419T122058
CREATED:20210926T102410Z
LAST-MODIFIED:20210926T114938Z
UID:3014-1634326200-1634333400@www.falklandcommunityhall.org
SUMMARY:Quiz Night
DESCRIPTION:Five rounds of questions with a prize of £50 to the winning team. £10.00 per team of four. \nTickets are available from the Library each Saturday morning. \n
URL:https://www.falklandcommunityhall.org/event/quiz-night/
LOCATION:Falkland Community Hall\, Back Wynd\, Falkland\, Fife\, KY15 7BX\, United Kingdom
END:VEVENT
END:VCALENDAR