BEGIN:VCALENDAR
VERSION:2.0
PRODID:-//Falkland Community Hall - Fife - ECPv5.1.2.1//NONSGML v1.0//EN
CALSCALE:GREGORIAN
METHOD:PUBLISH
X-WR-CALNAME:Falkland Community Hall - Fife
X-ORIGINAL-URL:https://www.falklandcommunityhall.org
X-WR-CALDESC:Events for Falkland Community Hall - Fife
BEGIN:VTIMEZONE
TZID:UTC
BEGIN:STANDARD
TZOFFSETFROM:+0000
TZOFFSETTO:+0000
TZNAME:UTC
DTSTART:20160101T000000
END:STANDARD
END:VTIMEZONE
BEGIN:VEVENT
DTSTART;TZID=UTC:20160206T174500
DTEND;TZID=UTC:20160206T224500
DTSTAMP:20260419T182541
CREATED:20160130T021026Z
LAST-MODIFIED:20160130T021026Z
UID:1313-1454780700-1454798700@www.falklandcommunityhall.org
SUMMARY:Private Function
DESCRIPTION:
URL:https://www.falklandcommunityhall.org/event/private-function/
LOCATION:Falkland Community Hall\, Back Wynd\, Falkland\, Fife\, KY15 7BX\, United Kingdom
END:VEVENT
END:VCALENDAR