BEGIN:VCALENDAR
VERSION:2.0
PRODID:-//Falkland Community Hall - Fife - ECPv5.1.2.1//NONSGML v1.0//EN
CALSCALE:GREGORIAN
METHOD:PUBLISH
X-WR-CALNAME:Falkland Community Hall - Fife
X-ORIGINAL-URL:https://www.falklandcommunityhall.org
X-WR-CALDESC:Events for Falkland Community Hall - Fife
BEGIN:VTIMEZONE
TZID:UTC
BEGIN:STANDARD
TZOFFSETFROM:+0000
TZOFFSETTO:+0000
TZNAME:UTC
DTSTART:20170101T000000
END:STANDARD
END:VTIMEZONE
BEGIN:VEVENT
DTSTART;TZID=UTC:20171231T203000
DTEND;TZID=UTC:20180101T003000
DTSTAMP:20260419T134843
CREATED:20171204T123302Z
LAST-MODIFIED:20171204T134957Z
UID:1899-1514752200-1514766600@www.falklandcommunityhall.org
SUMMARY:Hogmanay Cèilidh
DESCRIPTION:Come and join us and the Capering Cèilidh Band in Falkland Community Hall for a traditional cèilidh to welcome in 2018.\nTickets are priced at £15 for adults & £7 for children aged 12 yrs and younger\nhttps://www.eventbrite.com/e/falkland-hogmanay-ceilidh-tickets-40204119604 \nThis is a very popular event for locals and visitors alike; so to avoid disappointment\, ensure you purchase your tickets early. \nPlease note there’s no bar at this event\, so remember to bring your own bottle and snacks. \nTea\, coffee and bottled water will be available at the interval. \nThere will also be a raffle and “bottle” slide \nAll funds raised will be equally divided between Falkland Traditional Music Festival and Falkland Community Development Trust.  Funds received by the Trust will be spent on Falkland Community Hall and Falkland Community Library \n
URL:https://www.falklandcommunityhall.org/event/hogmanay-ceilidh/
LOCATION:Falkland Community Hall\, Back Wynd\, Falkland\, Fife\, KY15 7BX\, United Kingdom
CATEGORIES:Dance
ATTACH;FMTTYPE=image/jpeg:https://www.falklandcommunityhall.org/wp-content/uploads/2017/12/dashing-white-sergeant_loop_poster.jpg
END:VEVENT
END:VCALENDAR