BEGIN:VCALENDAR
VERSION:2.0
PRODID:-//Falkland Community Hall - Fife - ECPv5.1.2.1//NONSGML v1.0//EN
CALSCALE:GREGORIAN
METHOD:PUBLISH
X-WR-CALNAME:Falkland Community Hall - Fife
X-ORIGINAL-URL:https://www.falklandcommunityhall.org
X-WR-CALDESC:Events for Falkland Community Hall - Fife
BEGIN:VTIMEZONE
TZID:UTC
BEGIN:STANDARD
TZOFFSETFROM:+0000
TZOFFSETTO:+0000
TZNAME:UTC
DTSTART:20160101T000000
END:STANDARD
END:VTIMEZONE
BEGIN:VEVENT
DTSTART;TZID=UTC:20160625T090000
DTEND;TZID=UTC:20160626T170000
DTSTAMP:20260419T151450
CREATED:20160129T110305Z
LAST-MODIFIED:20160129T110305Z
UID:1303-1466845200-1466960400@www.falklandcommunityhall.org
SUMMARY:GPS Training
DESCRIPTION:Experienced tutor Andy Ayre helps you get to grips with the basics of GPS navigation and how to get the best out of Garmin maps. \n
URL:https://www.falklandcommunityhall.org/event/gps-training/
LOCATION:Falkland Community Hall\, Back Wynd\, Falkland\, Fife\, KY15 7BX\, United Kingdom
END:VEVENT
END:VCALENDAR