BEGIN:VCALENDAR
VERSION:2.0
PRODID:-//Falkland Community Hall - Fife - ECPv5.1.2.1//NONSGML v1.0//EN
CALSCALE:GREGORIAN
METHOD:PUBLISH
X-WR-CALNAME:Falkland Community Hall - Fife
X-ORIGINAL-URL:https://www.falklandcommunityhall.org
X-WR-CALDESC:Events for Falkland Community Hall - Fife
BEGIN:VTIMEZONE
TZID:UTC
BEGIN:STANDARD
TZOFFSETFROM:+0000
TZOFFSETTO:+0000
TZNAME:UTC
DTSTART:20160101T000000
END:STANDARD
END:VTIMEZONE
BEGIN:VEVENT
DTSTART;TZID=UTC:20160229T183000
DTEND;TZID=UTC:20160229T200000
DTSTAMP:20260419T165743
CREATED:20160202T002127Z
LAST-MODIFIED:20160202T002127Z
UID:1523-1456770600-1456776000@www.falklandcommunityhall.org
SUMMARY:FCH Committee Meeting
DESCRIPTION:Falkland Community Hall management committee meeting \n
URL:https://www.falklandcommunityhall.org/event/fch-committee-meeting/
LOCATION:Falkland Community Hall\, Back Wynd\, Falkland\, Fife\, KY15 7BX\, United Kingdom
END:VEVENT
END:VCALENDAR