BEGIN:VCALENDAR
VERSION:2.0
PRODID:-//Falkland Community Hall - Fife - ECPv5.1.2.1//NONSGML v1.0//EN
CALSCALE:GREGORIAN
METHOD:PUBLISH
X-WR-CALNAME:Falkland Community Hall - Fife
X-ORIGINAL-URL:https://www.falklandcommunityhall.org
X-WR-CALDESC:Events for Falkland Community Hall - Fife
BEGIN:VTIMEZONE
TZID:UTC
BEGIN:STANDARD
TZOFFSETFROM:+0000
TZOFFSETTO:+0000
TZNAME:UTC
DTSTART:20160101T000000
END:STANDARD
END:VTIMEZONE
BEGIN:VEVENT
DTSTART;TZID=UTC:20160514T090000
DTEND;TZID=UTC:20160514T170000
DTSTAMP:20260419T151824
CREATED:20160130T021602Z
LAST-MODIFIED:20160130T021602Z
UID:1315-1463216400-1463245200@www.falklandcommunityhall.org
SUMMARY:Falkland in Bloom
DESCRIPTION:Annual plant sale \n
URL:https://www.falklandcommunityhall.org/event/falkland-in-bloom-2/
LOCATION:Falkland Community Hall\, Back Wynd\, Falkland\, Fife\, KY15 7BX\, United Kingdom
END:VEVENT
END:VCALENDAR