BEGIN:VCALENDAR
VERSION:2.0
PRODID:-//Falkland Community Hall - Fife - ECPv5.1.2.1//NONSGML v1.0//EN
CALSCALE:GREGORIAN
METHOD:PUBLISH
X-WR-CALNAME:Falkland Community Hall - Fife
X-ORIGINAL-URL:https://www.falklandcommunityhall.org
X-WR-CALDESC:Events for Falkland Community Hall - Fife
BEGIN:VTIMEZONE
TZID:UTC
BEGIN:STANDARD
TZOFFSETFROM:+0000
TZOFFSETTO:+0000
TZNAME:UTC
DTSTART:20160101T000000
END:STANDARD
END:VTIMEZONE
BEGIN:VEVENT
DTSTART;TZID=UTC:20160709T100000
DTEND;TZID=UTC:20160709T160000
DTSTAMP:20260419T152216
CREATED:20160128T210240Z
LAST-MODIFIED:20160129T014606Z
UID:406-1468058400-1468080000@www.falklandcommunityhall.org
SUMMARY:Falkland Craft Market
DESCRIPTION:A great selection of hand crafted original art\, felt\, jewellery\, knits\, cards\, prints and much more. \nFree entry. \n
URL:https://www.falklandcommunityhall.org/event/falkland-craft-market-2/
LOCATION:Falkland Community Hall\, Back Wynd\, Falkland\, Fife\, KY15 7BX\, United Kingdom
END:VEVENT
END:VCALENDAR