BEGIN:VCALENDAR
VERSION:2.0
PRODID:-//Falkland Community Hall - Fife - ECPv5.1.2.1//NONSGML v1.0//EN
CALSCALE:GREGORIAN
METHOD:PUBLISH
X-WR-CALNAME:Falkland Community Hall - Fife
X-ORIGINAL-URL:https://www.falklandcommunityhall.org
X-WR-CALDESC:Events for Falkland Community Hall - Fife
BEGIN:VTIMEZONE
TZID:UTC
BEGIN:STANDARD
TZOFFSETFROM:+0000
TZOFFSETTO:+0000
TZNAME:UTC
DTSTART:20160101T000000
END:STANDARD
END:VTIMEZONE
BEGIN:VEVENT
DTSTART;VALUE=DATE:20160623
DTEND;VALUE=DATE:20160624
DTSTAMP:20260419T152113
CREATED:20160228T224507Z
LAST-MODIFIED:20160228T224507Z
UID:1572-1466640000-1466726399@www.falklandcommunityhall.org
SUMMARY:European Union Referendum
DESCRIPTION:Please note: the Hall will be used all day as a polling station and will be unavailable for rent.\n
URL:https://www.falklandcommunityhall.org/event/european-union-referendum/
LOCATION:Falkland Community Hall\, Back Wynd\, Falkland\, Fife\, KY15 7BX\, United Kingdom
END:VEVENT
END:VCALENDAR