BEGIN:VCALENDAR
VERSION:2.0
PRODID:-//Falkland Community Hall - Fife - ECPv5.1.2.1//NONSGML v1.0//EN
CALSCALE:GREGORIAN
METHOD:PUBLISH
X-WR-CALNAME:Falkland Community Hall - Fife
X-ORIGINAL-URL:https://www.falklandcommunityhall.org
X-WR-CALDESC:Events for Falkland Community Hall - Fife
BEGIN:VTIMEZONE
TZID:UTC
BEGIN:STANDARD
TZOFFSETFROM:+0000
TZOFFSETTO:+0000
TZNAME:UTC
DTSTART:20160101T000000
END:STANDARD
END:VTIMEZONE
BEGIN:VEVENT
DTSTART;TZID=UTC:20160801T130000
DTEND;TZID=UTC:20160801T203000
DTSTAMP:20260419T163500
CREATED:20160130T030521Z
LAST-MODIFIED:20160130T030521Z
UID:1330-1470056400-1470083400@www.falklandcommunityhall.org
SUMMARY:Blood Donors
DESCRIPTION:Come along and give blood. \n
URL:https://www.falklandcommunityhall.org/event/blood-donors-2/
END:VEVENT
END:VCALENDAR